BEGIN:VCALENDAR
VERSION:2.0
PRODID:-//Misty Pines Pet Company - ECPv6.15.16//NONSGML v1.0//EN
CALSCALE:GREGORIAN
METHOD:PUBLISH
X-WR-CALNAME:Misty Pines Pet Company
X-ORIGINAL-URL:https://www.mistypinespetcompany.com
X-WR-CALDESC:Events for Misty Pines Pet Company
REFRESH-INTERVAL;VALUE=DURATION:PT1H
X-Robots-Tag:noindex
X-PUBLISHED-TTL:PT1H
BEGIN:VTIMEZONE
TZID:America/New_York
BEGIN:DAYLIGHT
TZOFFSETFROM:-0500
TZOFFSETTO:-0400
TZNAME:EDT
DTSTART:20200308T070000
END:DAYLIGHT
BEGIN:STANDARD
TZOFFSETFROM:-0400
TZOFFSETTO:-0500
TZNAME:EST
DTSTART:20201101T060000
END:STANDARD
BEGIN:DAYLIGHT
TZOFFSETFROM:-0500
TZOFFSETTO:-0400
TZNAME:EDT
DTSTART:20210314T070000
END:DAYLIGHT
BEGIN:STANDARD
TZOFFSETFROM:-0400
TZOFFSETTO:-0500
TZNAME:EST
DTSTART:20211107T060000
END:STANDARD
BEGIN:DAYLIGHT
TZOFFSETFROM:-0500
TZOFFSETTO:-0400
TZNAME:EDT
DTSTART:20220313T070000
END:DAYLIGHT
BEGIN:STANDARD
TZOFFSETFROM:-0400
TZOFFSETTO:-0500
TZNAME:EST
DTSTART:20221106T060000
END:STANDARD
END:VTIMEZONE
BEGIN:VEVENT
DTSTART;TZID=America/New_York:20210221T121500
DTEND;TZID=America/New_York:20210221T130000
DTSTAMP:20260422T175337
CREATED:20201219T200433Z
LAST-MODIFIED:20210111T205809Z
UID:10000604-1613909700-1613912400@www.mistypinespetcompany.com
SUMMARY:Canine First Aid
DESCRIPTION:Do you know what to do if your dog is hit by a car? How to perform CPR to save your dog’s life? How to treat a wound to prevent infection? This class is meant to be used as an aid when immediate vet care is unavailable. This class should not be used as a substitute for veterinary care. Participants will receive an Emergency First Aid for Your Dog book by Dr. Tamara Shearer
URL:https://www.mistypinespetcompany.com/event/canine-first-aid/2021-02-21/
LOCATION:Misty Pines Pet Company\, 2523 Wexford Bayne Rd\, Sewickley\, PA\, 15143\, United States
ORGANIZER;CN="Misty Pines Pet Company":MAILTO:info@mistypinespetcompany.com
GEO:40.60338;-80.119111
X-APPLE-STRUCTURED-LOCATION;VALUE=URI;X-ADDRESS=Misty Pines Pet Company 2523 Wexford Bayne Rd Sewickley PA 15143 United States;X-APPLE-RADIUS=500;X-TITLE=2523 Wexford Bayne Rd:geo:-80.119111,40.60338
END:VEVENT
END:VCALENDAR