BEGIN:VCALENDAR
VERSION:2.0
PRODID:-//Misty Pines Pet Company - ECPv6.15.16//NONSGML v1.0//EN
CALSCALE:GREGORIAN
METHOD:PUBLISH
X-ORIGINAL-URL:https://www.mistypinespetcompany.com
X-WR-CALDESC:Events for Misty Pines Pet Company
REFRESH-INTERVAL;VALUE=DURATION:PT1H
X-Robots-Tag:noindex
X-PUBLISHED-TTL:PT1H
BEGIN:VTIMEZONE
TZID:America/New_York
BEGIN:DAYLIGHT
TZOFFSETFROM:-0500
TZOFFSETTO:-0400
TZNAME:EDT
DTSTART:20200308T070000
END:DAYLIGHT
BEGIN:STANDARD
TZOFFSETFROM:-0400
TZOFFSETTO:-0500
TZNAME:EST
DTSTART:20201101T060000
END:STANDARD
BEGIN:DAYLIGHT
TZOFFSETFROM:-0500
TZOFFSETTO:-0400
TZNAME:EDT
DTSTART:20210314T070000
END:DAYLIGHT
BEGIN:STANDARD
TZOFFSETFROM:-0400
TZOFFSETTO:-0500
TZNAME:EST
DTSTART:20211107T060000
END:STANDARD
BEGIN:DAYLIGHT
TZOFFSETFROM:-0500
TZOFFSETTO:-0400
TZNAME:EDT
DTSTART:20220313T070000
END:DAYLIGHT
BEGIN:STANDARD
TZOFFSETFROM:-0400
TZOFFSETTO:-0500
TZNAME:EST
DTSTART:20221106T060000
END:STANDARD
END:VTIMEZONE
BEGIN:VEVENT
DTSTART;TZID=America/New_York:20210228T121500
DTEND;TZID=America/New_York:20210228T130000
DTSTAMP:20260419T144241
CREATED:20201223T213443Z
LAST-MODIFIED:20210108T171405Z
UID:10000606-1614514500-1614517200@www.mistypinespetcompany.com
SUMMARY:Essentials of Grooming
DESCRIPTION:Learn the essentials of dog grooming: Nail clipping\, Brushing\, Ear cleaning\, Bathing and shampoos\, Drying\, Grooming tools and equipment
URL:https://www.mistypinespetcompany.com/event/essentials-of-grooming/2021-02-28/
LOCATION:Misty Pines Pet Company\, 2523 Wexford Bayne Rd\, Sewickley\, PA\, 15143\, United States
CATEGORIES:Specialty Classes
ORGANIZER;CN="Misty Pines Pet Company":MAILTO:info@mistypinespetcompany.com
GEO:40.60338;-80.119111
X-APPLE-STRUCTURED-LOCATION;VALUE=URI;X-ADDRESS=Misty Pines Pet Company 2523 Wexford Bayne Rd Sewickley PA 15143 United States;X-APPLE-RADIUS=500;X-TITLE=2523 Wexford Bayne Rd:geo:-80.119111,40.60338
END:VEVENT
END:VCALENDAR