BEGIN:VCALENDAR
VERSION:2.0
PRODID:-//Misty Pines Pet Company - ECPv6.15.16//NONSGML v1.0//EN
CALSCALE:GREGORIAN
METHOD:PUBLISH
X-WR-CALNAME:Misty Pines Pet Company
X-ORIGINAL-URL:https://www.mistypinespetcompany.com
X-WR-CALDESC:Events for Misty Pines Pet Company
REFRESH-INTERVAL;VALUE=DURATION:PT1H
X-Robots-Tag:noindex
X-PUBLISHED-TTL:PT1H
BEGIN:VTIMEZONE
TZID:America/New_York
BEGIN:DAYLIGHT
TZOFFSETFROM:-0500
TZOFFSETTO:-0400
TZNAME:EDT
DTSTART:20200308T070000
END:DAYLIGHT
BEGIN:STANDARD
TZOFFSETFROM:-0400
TZOFFSETTO:-0500
TZNAME:EST
DTSTART:20201101T060000
END:STANDARD
BEGIN:DAYLIGHT
TZOFFSETFROM:-0500
TZOFFSETTO:-0400
TZNAME:EDT
DTSTART:20210314T070000
END:DAYLIGHT
BEGIN:STANDARD
TZOFFSETFROM:-0400
TZOFFSETTO:-0500
TZNAME:EST
DTSTART:20211107T060000
END:STANDARD
BEGIN:DAYLIGHT
TZOFFSETFROM:-0500
TZOFFSETTO:-0400
TZNAME:EDT
DTSTART:20220313T070000
END:DAYLIGHT
BEGIN:STANDARD
TZOFFSETFROM:-0400
TZOFFSETTO:-0500
TZNAME:EST
DTSTART:20221106T060000
END:STANDARD
END:VTIMEZONE
BEGIN:VEVENT
DTSTART;TZID=America/New_York:20210307T100000
DTEND;TZID=America/New_York:20210307T224500
DTSTAMP:20260425T115053
CREATED:20191125T163400Z
LAST-MODIFIED:20210305T165713Z
UID:10000569-1615111200-1615157100@www.mistypinespetcompany.com
SUMMARY:Yoga and Exercise with Your Dog
DESCRIPTION:Cost is $20 to participate with your dog and $10 to participate without your dog. \nClass will begin with a warm-up routine for humans. Dogs will enjoy agility obstacles and the play command. You will perform exercises while training your dog in various stationary behaviors like sit/stay and down/stay. The human exercises include body-weight\, cardio and yoga. Your instructor will show the exercises with modifications to be more challenging or less challenging so everyone of every fitness level can participate and succeed! Working through the distraction of your movements will be a fun challenge for you and your dog. \nItems to bring: \n\n6’ Training leash and training collar.\nTreats and a treat pouch that closes and opens easily.\nWater (for Humans)\, water for dogs will be provided outside.\n\nRequirements to attend class: \n\nFriendly dogs that know basic behaviors: Sit\, Down\, Stay.\nUp-to-date vaccination records.
URL:https://www.mistypinespetcompany.com/event/exercise-with-your-dog/2021-03-07/
LOCATION:Misty Pines Pet Company\, 2523 Wexford Bayne Rd\, Sewickley\, PA\, 15143\, United States
CATEGORIES:Specialty Classes
ORGANIZER;CN="Misty Pines Pet Company":MAILTO:info@mistypinespetcompany.com
GEO:40.60338;-80.119111
X-APPLE-STRUCTURED-LOCATION;VALUE=URI;X-ADDRESS=Misty Pines Pet Company 2523 Wexford Bayne Rd Sewickley PA 15143 United States;X-APPLE-RADIUS=500;X-TITLE=2523 Wexford Bayne Rd:geo:-80.119111,40.60338
END:VEVENT
BEGIN:VEVENT
DTSTART;TZID=America/New_York:20210307T111500
DTEND;TZID=America/New_York:20210307T120000
DTSTAMP:20260425T115053
CREATED:20171031T200444Z
LAST-MODIFIED:20210305T164257Z
UID:10000535-1615115700-1615118400@www.mistypinespetcompany.com
SUMMARY:All Levels Class
DESCRIPTION:The Family Class is designed to teach families dog handling skills\, dog safety\, games\, obedience and agility. This is a fun\, informative\, and entertaining class for moms\, dads\, kids and dogs. \nPlease pre-register.
URL:https://www.mistypinespetcompany.com/event/kids-family-class/2021-03-07/
LOCATION:Misty Pines Pet Company\, 2523 Wexford Bayne Rd\, Sewickley\, PA\, 15143\, United States
CATEGORIES:Specialty Classes
ATTACH;FMTTYPE=image/jpeg:https://www.mistypinespetcompany.com/site/wp-content/uploads/IMG_2853.jpg
ORGANIZER;CN="Misty Pines Pet Company":MAILTO:info@mistypinespetcompany.com
GEO:40.60338;-80.119111
X-APPLE-STRUCTURED-LOCATION;VALUE=URI;X-ADDRESS=Misty Pines Pet Company 2523 Wexford Bayne Rd Sewickley PA 15143 United States;X-APPLE-RADIUS=500;X-TITLE=2523 Wexford Bayne Rd:geo:-80.119111,40.60338
END:VEVENT
BEGIN:VEVENT
DTSTART;TZID=America/New_York:20210313T080000
DTEND;TZID=America/New_York:20210313T084500
DTSTAMP:20260425T115053
CREATED:20200710T205220Z
LAST-MODIFIED:20240105T213210Z
UID:10000578-1615622400-1615625100@www.mistypinespetcompany.com
SUMMARY:Misty Pines Therapy Dog and CGC Prep Class
DESCRIPTION:This class will prepare you and your dog for therapy or service work. We will help you and your dog work through a number of exercises that you will encounter in life and in medical settings. Practice makes perfect! \nThis class will also prepare you for the Canine Good Citizen Test. \nCanine Good Citizen Test (CGC) \nThe Canine Good Citizen Test is a titling through the American Kennel Club (AKC) that is designed to recognize dogs that have good manners at home and in the community. The Canine Good Citizen Program is a two-part program that stresses responsible pet ownership for owners and basic good manners for dogs. All dogs who pass the 10-step CGC test will receive a certificate from the American Kennel Club. \nThe CGC also lays the foundation for the Public Access Test for the Misty Pines Certified Service Dogs.
URL:https://www.mistypinespetcompany.com/event/therapy-dog-and-service-dog-training/2021-03-13/
LOCATION:Misty Pines Pet Company\, 2523 Wexford Bayne Rd\, Sewickley\, PA\, 15143\, United States
CATEGORIES:Specialty Classes
ATTACH;FMTTYPE=image/jpeg:https://www.mistypinespetcompany.com/site/wp-content/uploads/TherapyDogBanner.jpg
ORGANIZER;CN="Misty Pines Pet Company":MAILTO:info@mistypinespetcompany.com
GEO:40.60338;-80.119111
X-APPLE-STRUCTURED-LOCATION;VALUE=URI;X-ADDRESS=Misty Pines Pet Company 2523 Wexford Bayne Rd Sewickley PA 15143 United States;X-APPLE-RADIUS=500;X-TITLE=2523 Wexford Bayne Rd:geo:-80.119111,40.60338
END:VEVENT
END:VCALENDAR