BEGIN:VCALENDAR
VERSION:2.0
PRODID:-//Misty Pines Pet Company - ECPv6.15.16//NONSGML v1.0//EN
CALSCALE:GREGORIAN
METHOD:PUBLISH
X-ORIGINAL-URL:https://www.mistypinespetcompany.com
X-WR-CALDESC:Events for Misty Pines Pet Company
REFRESH-INTERVAL;VALUE=DURATION:PT1H
X-Robots-Tag:noindex
X-PUBLISHED-TTL:PT1H
BEGIN:VTIMEZONE
TZID:America/New_York
BEGIN:DAYLIGHT
TZOFFSETFROM:-0500
TZOFFSETTO:-0400
TZNAME:EDT
DTSTART:20170312T070000
END:DAYLIGHT
BEGIN:STANDARD
TZOFFSETFROM:-0400
TZOFFSETTO:-0500
TZNAME:EST
DTSTART:20171105T060000
END:STANDARD
BEGIN:DAYLIGHT
TZOFFSETFROM:-0500
TZOFFSETTO:-0400
TZNAME:EDT
DTSTART:20180311T070000
END:DAYLIGHT
BEGIN:STANDARD
TZOFFSETFROM:-0400
TZOFFSETTO:-0500
TZNAME:EST
DTSTART:20181104T060000
END:STANDARD
BEGIN:DAYLIGHT
TZOFFSETFROM:-0500
TZOFFSETTO:-0400
TZNAME:EDT
DTSTART:20190310T070000
END:DAYLIGHT
BEGIN:STANDARD
TZOFFSETFROM:-0400
TZOFFSETTO:-0500
TZNAME:EST
DTSTART:20191103T060000
END:STANDARD
END:VTIMEZONE
BEGIN:VEVENT
DTSTART;TZID=America/New_York:20180512T111500
DTEND;TZID=America/New_York:20180512T120000
DTSTAMP:20260419T201453
CREATED:20180326T222823Z
LAST-MODIFIED:20180416T141856Z
UID:10000545-1526123700-1526126400@www.mistypinespetcompany.com
SUMMARY:Distance Behaviors
DESCRIPTION:Can your dog sit\, down\, or stand from 20 ft away? Would you like to advance your obedience skills? \nDistance Behaviors introduces a new challenge to you and your dog. You will learn how to better communicate from greater distances by utilizing behaviors you already know. Common distance behaviors are sit\, down\, stand\, and spin. \nYour dog must already know sit\, down\, stand and spin.
URL:https://www.mistypinespetcompany.com/event/distance-behaviors/
LOCATION:Misty Pines Pet Company\, 2523 Wexford Bayne Rd\, Sewickley\, PA\, 15143\, United States
CATEGORIES:Specialty Classes
ATTACH;FMTTYPE=image/jpeg:https://www.mistypinespetcompany.com/site/wp-content/uploads/distanceBehaviors.jpg
ORGANIZER;CN="Misty Pines Pet Company":MAILTO:info@mistypinespetcompany.com
GEO:40.60338;-80.119111
X-APPLE-STRUCTURED-LOCATION;VALUE=URI;X-ADDRESS=Misty Pines Pet Company 2523 Wexford Bayne Rd Sewickley PA 15143 United States;X-APPLE-RADIUS=500;X-TITLE=2523 Wexford Bayne Rd:geo:-80.119111,40.60338
END:VEVENT
END:VCALENDAR